BEGIN:VCALENDAR
VERSION:2.0
PRODID:-//Photos On The Vine - ECPv6.15.20//NONSGML v1.0//EN
CALSCALE:GREGORIAN
METHOD:PUBLISH
X-ORIGINAL-URL:https://www.photosonthevine.com
X-WR-CALDESC:Events for Photos On The Vine
REFRESH-INTERVAL;VALUE=DURATION:PT1H
X-Robots-Tag:noindex
X-PUBLISHED-TTL:PT1H
BEGIN:VTIMEZONE
TZID:UTC
BEGIN:STANDARD
TZOFFSETFROM:+0000
TZOFFSETTO:+0000
TZNAME:UTC
DTSTART:20250101T000000
END:STANDARD
END:VTIMEZONE
BEGIN:VEVENT
DTSTART;TZID=UTC:20260213T180000
DTEND;TZID=UTC:20260213T200000
DTSTAMP:20260424T125508
CREATED:20251122T224523Z
LAST-MODIFIED:20260203T220913Z
UID:5356-1771005600-1771012800@www.photosonthevine.com
SUMMARY:Basic Digital Photography Class February 13
DESCRIPTION:This Basic Digital Photography Class will make sure you are sharp\, and on focus for all your photos. \nHave you recently purchased a Digital Camera and don’t know how best to operate it?\nDo you know someone with a new camera who might like this class?\nExperience a fun night out with other photographers in a social setting\, learning basic digital photography and how to take better photographs with your camera.\nThis basic photography class will cover what you need to know in order to get started with your digital camera. If you have been using your camera for awhile and would like to get more technical know knowledge of how to take better photographs\, this class is also  good for you. \nFocus will be on\n\nCamera functions including program icons\nBasic camera operation\nCamera functions including program icons\nISO\, Aperture\, and Shutter Speed\nDigital photo concepts like using flash and composition\nRecommended accessories to enhance your picture taking\nHow to get your images into your computer\n\nThis will be a hands on photography class where we will also study\n\nHow to Stop Action and Movement\nHow to Blur Your Backgrounds or Keep Everything in Focus\n\nThis class will is beneficial for all levels of photographers who wish to better their photography skills. \nThis class is open to both point and shoot and DSLR photographers. No matter your skill level\, we will cover topics that will not only help you learn your camera\, but will improve the quality of your photographs. \nThis is a hands on event\, so be sure to bring your camera!  We will be photographing still life to get a better understanding of exposure\, lighting\, speed\, and depth of field. If weather permits we will also photograph some outside as well! \nIf you have purchased this event through another website\, please send us an email to register for this class. This class does require a minimum number of registrations in order to be held. In the event we do not meet the minimum number of requirements\, we will notify the registered attendees to either reschedule to another class or to receive a full refund. \nWe require a 24 hour notice to reschedule your registration at no charge. \nPhotos On The Vine is a local photography studio which holds various types of photography classes from beginner classes to studio lighting. \nWe offer photography classes\, from basic to expert\, photoshop\, flash\, and studio lighting classes and we are keen on sharing our knowledge and know-how!
URL:https://www.photosonthevine.com/event/basic-digital-photography-class-february-13/
LOCATION:1726 Layton Ave\, Haltom City\, TX 76117\, 1726 Layton Avenue\, Haltom City\, Texas
CATEGORIES:Photography Classes
ATTACH;FMTTYPE=image/jpeg:https://www.photosonthevine.com/wp-content/uploads/2024/12/IMG_4341.jpg
END:VEVENT
END:VCALENDAR